BEGIN:VCALENDAR
VERSION:2.0
PRODID:-//wp-events-plugin.com//7.2.3.1//EN
TZID:America/Toronto
X-WR-TIMEZONE:America/Toronto
BEGIN:VEVENT
UID:217@southamptonlegion.ca
DTSTART;TZID=America/Toronto:20260207T140000
DTEND;TZID=America/Toronto:20260207T170000
DTSTAMP:20260206T131936Z
URL:https://southamptonlegion.ca/events/behind-bars/
SUMMARY:Behind Bars
DESCRIPTION:Behind Bars\, Saturday Feb 7 at 2pm. Cover by donation in suppo
 rt of live music with a minimum $5.
ATTACH;FMTTYPE=image/jpeg:https://southamptonlegion.ca/wp-content/uploads/
 2026/02/Behind-Bars.jpg
CATEGORIES:Live Music
LOCATION:Royal Canadian Legion Branch 155 - Southampton\, 13 Grosvenor Stre
 et North\, Southampton\, Ontario\, N0H 2L0\, Canada
X-APPLE-STRUCTURED-LOCATION;VALUE=URI;X-ADDRESS=13 Grosvenor Street North\,
  Southampton\, Ontario\, N0H 2L0\, Canada;X-APPLE-RADIUS=100;X-TITLE=Royal
  Canadian Legion Branch 155 - Southampton:geo:0,0
END:VEVENT
BEGIN:VTIMEZONE
TZID:America/Toronto
X-LIC-LOCATION:America/Toronto
BEGIN:STANDARD
DTSTART:20251102T010000
TZOFFSETFROM:-0400
TZOFFSETTO:-0500
TZNAME:EST
END:STANDARD
END:VTIMEZONE
END:VCALENDAR